BEGIN:VCALENDAR
VERSION:2.0
PRODID:-//eventon.com NONSGML v1.0//EN
CALSCALE:GREGORIAN
METHOD:PUBLISH
BEGIN:VEVENT
UID:69e9080cc08e4
DTSTAMP:20260422T174028Z
DTSTART:20190424T170000Z
DTEND:20190424T190000Z
LOCATION:X-Huset Birkevej 15B\,  5672 Broby
SUMMARY:FOREDRAG MED ANDERS AGGER
DESCRIPTION:DRs Anders Agger kommer rundt i landet. Og i verden. Der leder 
 han primært efter fællesskaber og forskelle. Og allerhelst efter levet li
 v. For så at veksle det til tv i bedste sendetid. Uanset\,  om det er en d
 øende sømand på et hospice i Hvide Sande\,  en krølhåret popsanger fra
 [..]\nhttps://bakkelandetfyn.dk/events/foredrag-med-anders-agger/
URL:https://bakkelandetfyn.dk/events/foredrag-med-anders-agger/
END:VEVENT
END:VCALENDAR